Workbook

Sheet FORMULAIRE A COMPLETER
H1: Incendies en Gironde et dans les Landes - Plan d'actions régional
H2: Mesure 8 : Reconstruire et moderniser les outils de production des TPE
H4: FORMULAIRE DE DEMANDE D'AIDE EXCEPTIONNELLE
B6: PRESENTATION DE L'ENTREPRISE
B8: RAISON SOCIALE
B10: ADRESSE SIEGE SOCIAL
B12: COMMUNE | O12:  | P12: =IFERROR(VLOOKUP($F$12,Feuil2!$A$2:$K$10864,2,FALSE),"") | R12: =IFERROR(VLOOKUP($F$12,Feuil2!$A$2:$K$10864,4,FALSE),"")
B14: TELEPHONE | M14: SITE INTERNET
B16: SIRET | N16: DATE IMMATRICULATION
B18: NAF | H18:  | I18: =IFERROR(VLOOKUP(E18,Feuil2!B905:E1637,4,FALSE),"") | S18: CATEGORIE JURIDIQUE | AC18: 
B20: CHIFFRE D'AFFAIRES (dernier exercice clos) | M20: EFFECTIF
M21: CDI-CDD | R21:  | S21: Apprentis | X21:  | Y21: Travailleurs non salariés | AD21: 
B23: REPRESENTANT LEGAL DE L'ENTREPRISE | N23: NOM - PRENOM
B25: FONCTION | M25: ( | S25: MAIL
B27: PERSONNE EN CHARGE DU DOSSIER
B29: JE SUIS : | W29:  | X29: =IF($E$40="Une structure mandatée par l'entreprise pour gérer ce dossier","→ Préciser structure",IF($E$40="Autre","→ Préciser structure",""))
B31: CIVILITE | H31:  | I31: NOM - PRENOM
B33: FONCTION | M33: ( | S33: MAIL
B35: Nom de la structure si autre que l'entreprise
B38: INFORMATIONS SUR LE SINISTRE
B40: DATE DE DEBUT DU SINISTRE
B42: FERMETURE DE L'ENTREPRISE | K42: NON | M42:  | Q42: du | X42: au
B44: Descriptif du sinistre
B50: Dommages subis sur les locaux de l'entreprise | R50: Coût estimé des dommages
B57: Dommage subis sur le matériel professionnel | R57: Coût estimé des dommages
B64: INFORMATIONS SUR L'ASSUREUR
B66: NOM DE L'ASSURANCE | S66: N° DU CONTRAT
B68: NOM - PRENOM DU REFERENT
B70: ( | K70: MAIL
B72: Commentaire sur la prise en charge des dégâts par l'assurance :
B74: AIDES PERCUES OU SOLLICITEES LIEES AU SINISTRE
B76: DATE DEMANDE | E76: OBJET DE L'AIDE | O76: FINANCEUR | V76: MONTANT | AA76: DATE ACCORD
B81: DECLARATION AIDES PUBLIQUES - REGIME DE MINIMIS
B82: Règlement UE n°2023/2831 de la Commission Européenne du 13 décembre 2023 relatif à l'application des articles 107 et 108 du traité sur le fonctionnement de l'Union européenne aux aides "de minimis", qui prévoit que les aides publiques versées au titre de cette réglementation ne peuvent dépasser 300 000 euros au cours des 36 derniers mois.
B84: FALSE | C84: l’entreprise n’a bénéficié d’aucune aide publique relevant du régime « de minimis » au cours des 36 derniers mois,
B86: FALSE | C86: l’entreprise a bénéficié, au cours des 36 derniers mois, de la somme totale inscrite dans le tableau ci-dessous au titre des aides de minimis :
C88: OBJET DE L'AIDE | M88: FINANCEUR | T88: DATE OBTENTION | Y88: MONTANT
T92: TOTAL | Y92: =SUM(Y89:AC91) -> 0
B94: DECLARATION SUR L'HONNEUR
B96: Je déclare sur l’honneur (cases à cocher) :
...

Sheet DONNEES
A1: Présentation de l'entreprise | M1: Représentant légal de l'entreprise | S1: Personne en charge du dossier | AA1: Activité de l'entreprise | AI1: Description du projet de l'entreprise | AV1: Accompagnement du projet de l'entreprise | BB1: Montant | BC1: Informations complémentaires | BM1: Informations complémentaires
AA2: Décrire l'activité de l'entreprise | AB2: Effectif de l'entreprise | AF2: CA des 2 derniers exercices cloturés | AI2: Description projet | AM2: Recrutement prévisionnel | AQ2: Coût prévisionnel | AV2: Le projet est-il accompagné par une structure experte | AW2: Si oui, nom de la structure | AX2: Nom du conseiller | AY2: Téléphone | AZ2: Mail | BC2: supplément d'information | BM2: Démarches environnementales
A3: Raison sociale | B3: Adresse établissement | C3: Commune | D3: Telephone | E3: Site internet | F3: Siret | G3: Date création ou reprise | H3: Code NAF | I3: Catégorie juridique | J3: l'entreprise appartient a un groupe ? | K3: Lequel ? | M3: Civilité | N3: Nom-Prénom | O3: Fonction | P3: Telephone | Q3: Mail | S3: "Je suis" | T3: Civilité | U3: Nom-Prénom | V3: Fonction | W3: Tel | X3: Mail | Y3: Nom de la structure si autre que l'entreprise | AA3: Description de l'activité de l'entreprise | AB3: CDI | AC3: CDD | AD3: Alternant(e)s | AE3: Autres | AF3: CA N-1 | AG3: CA N-2 | AI3: Démarche | AJ3: Date prévisionnelle de démarrage | AK3: Description du projet | AL3: Actions mises en place pour Neoterra | AM3: CDI | AN3: CDD | AO3: Contrat Alternance | AP3: Autres | AQ3: Cout total | AR3: Immobilier | AS3: Matériel | AT3: Autre | BC3: Type de commerce | BD3: Activité principale | BE3: Site vente en ligne | BF3: Clientèle | BG3: Local | BH3: supérficie local | BI3: emplacement local | BJ3: Concurrence | BK3: Adresse précise | BM3: Tri des déchets | BN3: Réduction des déchets | BO3: Eau | BP3: Energie | BQ3: Vente en circuits courts | BR3: Achats éco-responsables | BS3: Conseils perso | BT3: Autres informations utiles
A4: ='FORMULAIRE A COMPLETER'!J8 -> 0 | B4: ='FORMULAIRE A COMPLETER'!J10 -> 0 | C4: ='FORMULAIRE A COMPLETER'!F12 -> 0 | D4: ='FORMULAIRE A COMPLETER'!F14 -> 0 | E4: ='FORMULAIRE A COMPLETER'!R14 -> 0 | F4: ='FORMULAIRE A COMPLETER'!E16 -> 0 | G4: ='FORMULAIRE A COMPLETER'!V16 -> 0 | H4: ='FORMULAIRE A COMPLETER'!E18 -> 0 | I4: ='FORMULAIRE A COMPLETER'!Z18 -> 0 | J4: ='FORMULAIRE A COMPLETER'!#REF! -> #REF! | K4: ='FORMULAIRE A COMPLETER'!#REF! -> #REF! | M4: ='FORMULAIRE A COMPLETER'!#REF! -> #REF! | N4: ='FORMULAIRE A COMPLETER'!#REF! -> #REF! | O4: ='FORMULAIRE A COMPLETER'!F25 -> 0 | P4: ='FORMULAIRE A COMPLETER'!N25 -> 0 | Q4: ='FORMULAIRE A COMPLETER'!V25 -> 0 | S4: ='FORMULAIRE A COMPLETER'!E40 -> 0 | T4: ='FORMULAIRE A COMPLETER'!#REF! -> #REF! | U4: ='FORMULAIRE A COMPLETER'!#REF! -> #REF! | V4: ='FORMULAIRE A COMPLETER'!#REF! -> #REF! | W4: ='FORMULAIRE A COMPLETER'!#REF! -> #REF! | X4: ='FORMULAIRE A COMPLETER'!#REF! -> #REF! | Y4: ='FORMULAIRE A COMPLETER'!#REF! -> #REF! | AA4: ='FORMULAIRE A COMPLETER'!B45 -> 0 | AB4: ='FORMULAIRE A COMPLETER'!#REF! -> #REF! | AC4: ='FORMULAIRE A COMPLETER'!#REF! -> #REF! | AD4: ='FORMULAIRE A COMPLETER'!#REF! -> #REF! | AE4: ='FORMULAIRE A COMPLETER'!#REF! -> #REF! | AF4: ='FORMULAIRE A COMPLETER'!#REF! -> #REF! | AG4: ='FORMULAIRE A COMPLETER'!#REF! -> #REF! | AI4: ='FORMULAIRE A COMPLETER'!#REF! -> #REF! | AJ4: ='FORMULAIRE A COMPLETER'!#REF! -> #REF! | AK4: ='FORMULAIRE A COMPLETER'!#REF! -> #REF! | AL4: ='FORMULAIRE A COMPLETER'!#REF! -> #REF! | AM4: ='FORMULAIRE A COMPLETER'!#REF! -> #REF! | AN4: ='FORMULAIRE A COMPLETER'!#REF! -> #REF! | AO4: ='FORMULAIRE A COMPLETER'!#REF! -> #REF! | AP4: ='FORMULAIRE A COMPLETER'!#REF! -> #REF! | ... AT4: ='FORMULAIRE A COMPLETER'!#REF! -> #REF! | AV4: ='FORMULAIRE A COMPLETER'!#REF! -> #REF! | AW4: ='FORMULAIRE A COMPLETER'!#REF! -> #REF! | AX4: ='FORMULAIRE A COMPLETER'!#REF! -> #REF! | AY4: ='FORMULAIRE A COMPLETER'!#REF! -> #REF! | AZ4: ='FORMULAIRE A COMPLETER'!#REF! -> #REF! | BB4: ='FORMULAIRE A COMPLETER'!S101 -> 0 | BC4: ='FORMULAIRE A COMPLETER'!#REF! -> #REF! | BD4: ='FORMULAIRE A COMPLETER'!#REF! -> #REF! | BE4: ='FORMULAIRE A COMPLETER'!#REF! -> #REF! | BF4: ='FORMULAIRE A COMPLETER'!#REF! -> #REF! | BG4: ='FORMULAIRE A COMPLETER'!#REF! -> #REF! | BH4: ='FORMULAIRE A COMPLETER'!#REF! -> #REF! | BI4: ='FORMULAIRE A COMPLETER'!#REF! -> #REF! | BJ4: ='FORMULAIRE A COMPLETER'!#REF! -> #REF! | BK4: ='FORMULAIRE A COMPLETER'!#REF! -> #REF! | BM4: ='FORMULAIRE A COMPLETER'!#REF! -> #REF! | BN4: ='FORMULAIRE A COMPLETER'!#REF! -> #REF! | BO4: ='FORMULAIRE A COMPLETER'!#REF! -> #REF! | BP4: ='FORMULAIRE A COMPLETER'!#REF! -> #REF! | BQ4: ='FORMULAIRE A COMPLETER'!#REF! -> #REF! | BR4: ='FORMULAIRE A COMPLETER'!#REF! -> #REF! | BS4: ='FORMULAIRE A COMPLETER'!#REF! -> #REF! | BT4: ='FORMULAIRE A COMPLETER'!#REF! -> #REF!

Sheet Feuil2
A1: DPT com | B1: DPT2 | C1: CODE | D1: EPCI | E1: COMMUNE | F1: ELIGIBILITE | G1: POPULATION | H1: RURAL OU URBAIN | I1: Vulnérabilité DATAR | J1: Spécificité | K1: Niveau Equipement | L1: arreté cata nat
A2: =CONCATENATE(Tableau4[[#This Row],[DPT2]]," - ",Tableau4[[#This Row],[COMMUNE]]) -> 33 - Abzac | B2: 33 | C2: 33001 | D2: CA du Libournais | E2: Abzac | F2: OUI | G2: 1982 | H2: Rural | I2: Moyenne | J2: - | K2: Restreint | L2: 46077
A3: =CONCATENATE(Tableau4[[#This Row],[DPT2]]," - ",Tableau4[[#This Row],[COMMUNE]]) -> 33 - Aillas | B3: 33 | C3: 33002 | D3: CC du Réolais en Sud Gironde | E3: Aillas | F3: OUI | G3: 834 | H3: Rural | I3: Forte | J3: - | K3: Restreint | L3: NON
A4: =CONCATENATE(Tableau4[[#This Row],[DPT2]]," - ",Tableau4[[#This Row],[COMMUNE]]) -> 33 - Ambarès-et-Lagrave | B4: 33 | C4: 33003 | D4: Bordeaux Métropole | E4: Ambarès-et-Lagrave | F4: NON | G4: 16636 | H4: Urbain | I4: Faible | J4: - | K4: Moyen | L4: NON
A5: =CONCATENATE(Tableau4[[#This Row],[DPT2]]," - ",Tableau4[[#This Row],[COMMUNE]]) -> 33 - Ambès | B5: 33 | C5: 33004 | D5: Bordeaux Métropole | E5: Ambès | F5: OUI | G5: 3053 | H5: Rural | I5: Faible | J5: - | K5: Restreint | L5: 46077
A6: =CONCATENATE(Tableau4[[#This Row],[DPT2]]," - ",Tableau4[[#This Row],[COMMUNE]]) -> 33 - Andernos-les-Bains | B6: 33 | C6: 33005 | D6: CA du Bassin d'Arcachon Nord | E6: Andernos-les-Bains | F6: NON | G6: 12242 | H6: Urbain | I6: Faible | J6: - | K6: Convenable | L6: NON
A7: =CONCATENATE(Tableau4[[#This Row],[DPT2]]," - ",Tableau4[[#This Row],[COMMUNE]]) -> 33 - Anglade | B7: 33 | C7: 33006 | D7: CC de l'Estuaire | E7: Anglade | F7: OUI | G7: 931 | H7: Rural | I7: Forte | J7: CADET | K7: Insuffisant | L7: NON
A8: =CONCATENATE(Tableau4[[#This Row],[DPT2]]," - ",Tableau4[[#This Row],[COMMUNE]]) -> 33 - Arbanats | B8: 33 | C8: 33007 | D8: CC Convergence Garonne | E8: Arbanats | F8: NON | G8: 1335 | H8: Urbain | I8: Faible | J8: - | K8: Restreint | L8: NON
A9: =CONCATENATE(Tableau4[[#This Row],[DPT2]]," - ",Tableau4[[#This Row],[COMMUNE]]) -> 33 - Arcachon | B9: 33 | C9: 33009 | D9: CA Bassin d'Arcachon Sud (COBAS) | E9: Arcachon | F9: NON | G9: 11630 | H9: Urbain | I9: Faible | J9: - | K9: Convenable | L9: NON
A10: =CONCATENATE(Tableau4[[#This Row],[DPT2]]," - ",Tableau4[[#This Row],[COMMUNE]]) -> 33 - Arcins | B10: 33 | C10: 33010 | D10: CC Médoc Estuaire | E10: Arcins | F10: OUI | G10: 529 | H10: Rural | I10: Faible | J10: - | K10: Insuffisant | L10: NON
A11: =CONCATENATE(Tableau4[[#This Row],[DPT2]]," - ",Tableau4[[#This Row],[COMMUNE]]) -> 33 - Arès | B11: 33 | C11: 33011 | D11: CA du Bassin d'Arcachon Nord | E11: Arès | F11: NON | G11: 6381 | H11: Urbain | I11: Faible | J11: - | K11: Convenable | L11: NON
A12: =CONCATENATE(Tableau4[[#This Row],[DPT2]]," - ",Tableau4[[#This Row],[COMMUNE]]) -> 33 - Arsac | B12: 33 | C12: 33012 | D12: CC Médoc Estuaire | E12: Arsac | F12: OUI | G12: 3747 | H12: Rural | I12: Faible | J12: - | K12: Moyen | L12: NON
A13: =CONCATENATE(Tableau4[[#This Row],[DPT2]]," - ",Tableau4[[#This Row],[COMMUNE]]) -> 33 - Artigues-près-Bordeaux | B13: 33 | C13: 33013 | D13: Bordeaux Métropole | E13: Artigues-près-Bordeaux | F13: NON | G13: 8656 | H13: Urbain | I13: Faible | J13: - | K13: Moyen | L13: NON
A14: =CONCATENATE(Tableau4[[#This Row],[DPT2]]," - ",Tableau4[[#This Row],[COMMUNE]]) -> 33 - Arveyres | B14: 33 | C14: 33015 | D14: CA du Libournais | E14: Arveyres | F14: NON | G14: 1992 | H14: Urbain | I14: Moyenne | J14: - | K14: Restreint | L14: 46077
A15: =CONCATENATE(Tableau4[[#This Row],[DPT2]]," - ",Tableau4[[#This Row],[COMMUNE]]) -> 33 - Asques | B15: 33 | C15: 33016 | D15: CC du Fronsadais | E15: Asques | F15: OUI | G15: 443 | H15: Rural | I15: Faible | J15: - | K15: Insuffisant | L15: 46077
A16: =CONCATENATE(Tableau4[[#This Row],[DPT2]]," - ",Tableau4[[#This Row],[COMMUNE]]) -> 33 - Aubiac | B16: 33 | C16: 33017 | D16: CC du Bazadais | E16: Aubiac | F16: OUI | G16: 276 | H16: Rural | I16: Moyenne | J16: - | K16: Insuffisant | L16: NON
A17: =CONCATENATE(Tableau4[[#This Row],[DPT2]]," - ",Tableau4[[#This Row],[COMMUNE]]) -> 33 - Audenge | B17: 33 | C17: 33019 | D17: CA du Bassin d'Arcachon Nord | E17: Audenge | F17: NON | G17: 8680 | H17: Urbain | I17: Faible | J17: - | K17: Moyen | L17: NON
A18: =CONCATENATE(Tableau4[[#This Row],[DPT2]]," - ",Tableau4[[#This Row],[COMMUNE]]) -> 33 - Auriolles | B18: 33 | C18: 33020 | D18: CC du Pays Foyen | E18: Auriolles | F18: OUI | G18: 143 | H18: Rural | I18: Forte | J18: - | K18: Insuffisant | L18: NON
A19: =CONCATENATE(Tableau4[[#This Row],[DPT2]]," - ",Tableau4[[#This Row],[COMMUNE]]) -> 33 - Auros | B19: 33 | C19: 33021 | D19: CC du Réolais en Sud Gironde | E19: Auros | F19: OUI | G19: 1049 | H19: Rural | I19: Forte | J19: - | K19: Restreint | L19: NON
A20: =CONCATENATE(Tableau4[[#This Row],[DPT2]]," - ",Tableau4[[#This Row],[COMMUNE]]) -> 33 - Avensan | B20: 33 | C20: 33022 | D20: CC Médullienne | E20: Avensan | F20: OUI | G20: 3018 | H20: Rural | I20: Faible | J20: - | K20: Restreint | L20: NON
A21: =CONCATENATE(Tableau4[[#This Row],[DPT2]]," - ",Tableau4[[#This Row],[COMMUNE]]) -> 33 - Ayguemorte-les-Graves | B21: 33 | C21: 33023 | D21: CC de Montesquieu | E21: Ayguemorte-les-Graves | F21: NON | G21: 1332 | H21: Urbain | I21: Faible | J21: - | K21: Restreint | L21: 46116
A22: =CONCATENATE(Tableau4[[#This Row],[DPT2]]," - ",Tableau4[[#This Row],[COMMUNE]]) -> 33 - Bagas | B22: 33 | C22: 33024 | D22: CC du Réolais en Sud Gironde | E22: Bagas | F22: OUI | G22: 301 | H22: Rural | I22: Forte | J22: - | K22: Insuffisant | L22: 46077
A23: =CONCATENATE(Tableau4[[#This Row],[DPT2]]," - ",Tableau4[[#This Row],[COMMUNE]]) -> 33 - Baigneaux | B23: 33 | C23: 33025 | D23: CC rurales de l'Entre-Deux-Mers | E23: Baigneaux | F23: OUI | G23: 450 | H23: Rural | I23: Moyenne | J23: - | K23: Insuffisant | L23: NON
A24: =CONCATENATE(Tableau4[[#This Row],[DPT2]]," - ",Tableau4[[#This Row],[COMMUNE]]) -> 33 - Balizac | B24: 33 | C24: 33026 | D24: CC du Sud Gironde | E24: Balizac | F24: OUI | G24: 497 | H24: Rural | I24: Moyenne | J24: - | K24: Insuffisant | L24: NON
A25: =CONCATENATE(Tableau4[[#This Row],[DPT2]]," - ",Tableau4[[#This Row],[COMMUNE]]) -> 33 - Barie | B25: 33 | C25: 33027 | D25: CC du Réolais en Sud Gironde | E25: Barie | F25: OUI | G25: 289 | H25: Rural | I25: Forte | J25: - | K25: Insuffisant | L25: 46077
A26: =CONCATENATE(Tableau4[[#This Row],[DPT2]]," - ",Tableau4[[#This Row],[COMMUNE]]) -> 33 - Baron | B26: 33 | C26: 33028 | D26: CC du Créonnais | E26: Baron | F26: OUI | G26: 1170 | H26: Rural | I26: Faible | J26: - | K26: Restreint | L26: NON
A27: =CONCATENATE(Tableau4[[#This Row],[DPT2]]," - ",Tableau4[[#This Row],[COMMUNE]]) -> 33 - Barsac | B27: 33 | C27: 33030 | D27: CC Convergence Garonne | E27: Barsac | F27: OUI | G27: 2074 | H27: Rural | I27: Faible | J27: - | K27: Restreint | L27: 46077
A28: =CONCATENATE(Tableau4[[#This Row],[DPT2]]," - ",Tableau4[[#This Row],[COMMUNE]]) -> 33 - Bassanne | B28: 33 | C28: 33031 | D28: CC du Réolais en Sud Gironde | E28: Bassanne | F28: OUI | G28: 131 | H28: Rural | I28: Forte | J28: - | K28: Insuffisant | L28: 46077
A29: =CONCATENATE(Tableau4[[#This Row],[DPT2]]," - ",Tableau4[[#This Row],[COMMUNE]]) -> 33 - Bassens | B29: 33 | C29: 33032 | D29: Bordeaux Métropole | E29: Bassens | F29: SI QPV | G29: 7472 | H29: Urbain | I29: Faible | J29: - | K29: Moyen | L29: NON
A30: =CONCATENATE(Tableau4[[#This Row],[DPT2]]," - ",Tableau4[[#This Row],[COMMUNE]]) -> 33 - Baurech | B30: 33 | C30: 33033 | D30: CC des Portes de l'Entre-Deux-Mers | E30: Baurech | F30: OUI | G30: 919 | H30: Rural | I30: Faible | J30: - | K30: Insuffisant | L30: NON
A31: =CONCATENATE(Tableau4[[#This Row],[DPT2]]," - ",Tableau4[[#This Row],[COMMUNE]]) -> 33 - Bayas | B31: 33 | C31: 33034 | D31: CA du Libournais | E31: Bayas | F31: OUI | G31: 460 | H31: Rural | I31: Moyenne | J31: - | K31: Insuffisant | L31: NON
A32: =CONCATENATE(Tableau4[[#This Row],[DPT2]]," - ",Tableau4[[#This Row],[COMMUNE]]) -> 33 - Bayon-sur-Gironde | B32: 33 | C32: 33035 | D32: CC de Blaye | E32: Bayon-sur-Gironde | F32: OUI | G32: 721 | H32: Rural | I32: Moyenne | J32: CADET | K32: Insuffisant | L32: 46077
A33: =CONCATENATE(Tableau4[[#This Row],[DPT2]]," - ",Tableau4[[#This Row],[COMMUNE]]) -> 33 - Bazas | B33: 33 | C33: 33036 | D33: CC du Bazadais | E33: Bazas | F33: OUI | G33: 4801 | H33: Rural | I33: Moyenne | J33: - | K33: Moyen | L33: NON
A34: =CONCATENATE(Tableau4[[#This Row],[DPT2]]," - ",Tableau4[[#This Row],[COMMUNE]]) -> 33 - Beautiran | B34: 33 | C34: 33037 | D34: CC de Montesquieu | E34: Beautiran | F34: NON | G34: 2330 | H34: Urbain | I34: Faible | J34: - | K34: Restreint | L34: NON
A35: =CONCATENATE(Tableau4[[#This Row],[DPT2]]," - ",Tableau4[[#This Row],[COMMUNE]]) -> 33 - Bégadan | B35: 33 | C35: 33038 | D35: CC Médoc Coeur de Presqu'île | E35: Bégadan | F35: OUI | G35: 915 | H35: Rural | I35: Moyenne | J35: - | K35: Restreint | L35: NON
A36: =CONCATENATE(Tableau4[[#This Row],[DPT2]]," - ",Tableau4[[#This Row],[COMMUNE]]) -> 33 - Bègles | B36: 33 | C36: 33039 | D36: Bordeaux Métropole | E36: Bègles | F36: SI QPV | G36: 30642 | H36: Urbain | I36: Faible | J36: - | K36: Convenable | L36: NON
A37: =CONCATENATE(Tableau4[[#This Row],[DPT2]]," - ",Tableau4[[#This Row],[COMMUNE]]) -> 33 - Béguey | B37: 33 | C37: 33040 | D37: CC Convergence Garonne | E37: Béguey | F37: OUI | G37: 1202 | H37: Rural | I37: Faible | J37: - | K37: Restreint | L37: 46077
A38: =CONCATENATE(Tableau4[[#This Row],[DPT2]]," - ",Tableau4[[#This Row],[COMMUNE]]) -> 33 - Belin-Béliet | B38: 33 | C38: 33042 | D38: CC du Val de l'Eyre | E38: Belin-Béliet | F38: OUI | G38: 5732 | H38: Rural | I38: Faible | J38: - | K38: Moyen | L38: 46077
A39: =CONCATENATE(Tableau4[[#This Row],[DPT2]]," - ",Tableau4[[#This Row],[COMMUNE]]) -> 33 - Bellebat | B39: 33 | C39: 33043 | D39: CC rurales de l'Entre-Deux-Mers | E39: Bellebat | F39: OUI | G39: 278 | H39: Rural | I39: Moyenne | J39: - | K39: Insuffisant | L39: NON
A40: =CONCATENATE(Tableau4[[#This Row],[DPT2]]," - ",Tableau4[[#This Row],[COMMUNE]]) -> 33 - Bellefond | B40: 33 | C40: 33044 | D40: CC rurales de l'Entre-Deux-Mers | E40: Bellefond | F40: OUI | G40: 220 | H40: Rural | I40: Moyenne | J40: - | K40: Insuffisant | L40: NON
...

Sheet Feuil1
A1: 46079 | E1: ETAT CATASTROPHE NATURELLE 09/02/26 AU 24/02/26 - LISTE DES COMMUNES & ELIGIBILITE CSQ
A2: DPT com | B2: DPT2 | C2: CODE | D2: EPCI | E2: COMMUNE | F2: ELIGIBILITE | G2: POPULATION | H2: RURAL OU URBAIN | I2: Vulnérabilité DATAR | J2: Spécificité | K2: Niveau Equipement | L2: Arrêté
A3: 16 - Agris | B3: 16 | C3: 16003 | D3: CC La Rochefoucauld porte du Périgord | E3: Agris | F3: Eligible | G3: 857 | H3: Rural | I3: Moyenne | J3: - | K3: Insuffisant | L3: 46077
A4: 16 - Aigre | B4: 16 | C4: 16005 | D4: CC Coeur de Charente | E4: Aigre | F4: Eligible | G4: 1579 | H4: Rural | I4: Moyenne | K4: Moyen | L4: 46084
A5: 16 - Ambérac | B5: 16 | C5: 16008 | D5: CC Coeur de Charente | E5: Ambérac | F5: Eligible | G5: 310 | H5: Rural | I5: Moyenne | K5: Insuffisant | L5: 46084
A6: 16 - Angeac-Charente | B6: 16 | C6: 16013 | D6: CA du Grand Cognac | E6: Angeac-Charente | F6: Eligible | G6: 319 | H6: Rural | I6: Faible | J6: - | K6: Insuffisant | L6: 46084
A7: 16 - Angoulême | B7: 16 | C7: 16015 | D7: CA du Grand Angoulême | E7: Angoulême | F7: Non éligible | G7: 41603 | H7: Urbain | I7: Faible | J7: - | K7: Satisfaisant | L7: 46084
A8: 16 - Aubeterre-sur-Dronne | B8: 16 | C8: 16020 | D8: CC Lavalette Tude Dronne | E8: Aubeterre-sur-Dronne | F8: Eligible | G8: 347 | H8: Rural | I8: Forte | J8: - | K8: Restreint | L8: 46084
A9: 17 - Saint-Hilaire-du-Bois | B9: 17 | C9: 17345 | D9: CC de la Haute Saintonge | E9: Saint-Hilaire-du-Bois | F9: Eligible | G9: 309 | H9: Rural | I9: Forte | J9: - | K9: Insuffisant | L9: 46116
A10: 17 - Bazauges | B10: 17 | C10: 17035 | D10: CC Vals de Saintonge Communauté | E10: Bazauges | F10: Eligible | G10: 112 | H10: Rural | I10: Forte | J10: - | K10: Insuffisant | L10: 46116
A11: 16 - Soyaux | B11: 16 | C11: 16374 | D11: CA du Grand Angoulême | E11: Soyaux | F11: Non éligible | G11: 9761 | H11: Urbain | I11: Faible | J11: - | K11: Convenable | L11: 46116
A12: 16 - Cellefrouin | B12: 16 | C12: 16068 | D12: CC Coeur de Charente | E12: Cellefrouin | F12: Eligible | G12: 565 | H12: Rural | I12: Moyenne | K12: Insuffisant | L12: 46099
A13: 16 - Bourg-Charente | B13: 16 | C13: 16056 | D13: CA du Grand Cognac | E13: Bourg-Charente | F13: Eligible | G13: 891 | H13: Rural | I13: Faible | J13: - | K13: Restreint | L13: 46084
A14: 16 - Boutiers-Saint-Trojan | B14: 16 | C14: 16058 | D14: CA du Grand Cognac | E14: Boutiers-Saint-Trojan | F14: Eligible | G14: 1410 | H14: Rural | I14: Faible | J14: - | K14: Insuffisant | L14: 46077
A15: 16 - Chalais | B15: 16 | C15: 16073 | D15: CC Lavalette Tude Dronne | E15: Chalais | F15: Eligible | G15: 1776 | H15: Rural | I15: Forte | J15: - | K15: Moyen | L15: 46084
A16: 16 - Chasseneuil-sur-Bonnieure | B16: 16 | C16: 16085 | D16: CC de Charente Limousine | E16: Chasseneuil-sur-Bonnieure | F16: Eligible | G16: 3083 | H16: Rural | I16: Forte | K16: Moyen | L16: 46084
A17: 16 - Saint-Brice | B17: 16 | C17: 16304 | D17: CA du Grand Cognac | E17: Saint-Brice | F17: Eligible | G17: 963 | H17: Rural | I17: Faible | J17: - | K17: Insuffisant | L17: 46099
A18: 16 - Châteaubernard | B18: 16 | C18: 16089 | D18: CA du Grand Cognac | E18: Châteaubernard | F18: Non éligible | G18: 3746 | H18: Urbain | I18: Faible | J18: - | K18: Moyen | L18: 46084
A19: 16 - Châteauneuf-sur-Charente | B19: 16 | C19: 16090 | D19: CA du Grand Cognac | E19: Châteauneuf-sur-Charente | F19: Eligible | G19: 3537 | H19: Rural | I19: Faible | J19: - | K19: Moyen | L19: 46077
A20: 16 - Cherves-Châtelars | B20: 16 | C20: 16096 | D20: CC de Charente Limousine | E20: Cherves-Châtelars | F20: Eligible | G20: 418 | H20: Rural | I20: Forte | K20: Insuffisant | L20: 46084
A21: 16 - Yvrac-et-Malleyrand | B21: 16 | C21: 16425 | D21: CC La Rochefoucauld porte du Périgord | E21: Yvrac-et-Malleyrand | F21: Eligible | G21: 557 | H21: Rural | I21: Moyenne | J21: - | K21: Insuffisant | L21: 46099
A22: 16 - Cognac | B22: 16 | C22: 16102 | D22: CA du Grand Cognac | E22: Cognac | F22: Non éligible | G22: 18670 | H22: Urbain | I22: Faible | J22: - | K22: Convenable | L22: 46077
A23: 16 - Confolens | B23: 16 | C23: 16106 | D23: CC de Charente Limousine | E23: Confolens | F23: Eligible | G23: 2712 | H23: Rural | I23: Forte | J23: REVITAL | K23: Moyen | L23: 46084
A24: 16 - Fléac | B24: 16 | C24: 16138 | D24: CA du Grand Angoulême | E24: Fléac | F24: Non éligible | G24: 3818 | H24: Urbain | I24: Faible | J24: - | K24: Restreint | L24: 46077
A25: 16 - Fouqueure | B25: 16 | C25: 16144 | D25: CC Coeur de Charente | E25: Fouqueure | F25: Eligible | G25: 421 | H25: Rural | I25: Moyenne | K25: Insuffisant | L25: 46077
A26: 16 - Genac-Bignac | B26: 16 | C26: 16148 | D26: CC du Rouillacais | E26: Genac-Bignac | F26: Eligible | G26: 1011 | H26: Rural | I26: Moyenne | J26: - | K26: Insuffisant | L26: 46084
A27: 16 - Gond-Pontouvre | B27: 16 | C27: 16154 | D27: CA du Grand Angoulême | E27: Gond-Pontouvre | F27: Non éligible | G27: 6119 | H27: Urbain | I27: Faible | J27: - | K27: Moyen | L27: 46084
A28: 16 - Graves-Saint-Amant | B28: 16 | C28: 16297 | D28: CA du Grand Cognac | E28: Graves-Saint-Amant | F28: Eligible | G28: 329 | H28: Rural | I28: Faible | J28: - | K28: Insuffisant | L28: 46084
A29: 16 - Jarnac | B29: 16 | C29: 16167 | D29: CA du Grand Cognac | E29: Jarnac | F29: Eligible | G29: 4434 | H29: Rural | I29: Faible | J29: - | K29: Moyen | L29: 46077
A30: 16 - Javrezac | B30: 16 | C30: 16169 | D30: CA du Grand Cognac | E30: Javrezac | F30: Eligible | G30: 563 | H30: Rural | I30: Faible | J30: - | K30: Insuffisant | L30: 46077
A31: 16 - La Chapelle | B31: 16 | C31: 16081 | D31: CC Coeur de Charente | E31: La Chapelle | F31: Eligible | G31: 215 | H31: Rural | I31: Moyenne | K31: Insuffisant | L31: 46077
A32: 16 - La Rochefoucauld-en-Angoumois | B32: 16 | C32: 16281 | D32: CC La Rochefoucauld porte du Périgord | E32: La Rochefoucauld-en-Angoumois | F32: Eligible | G32: 3977 | H32: Rural | I32: Moyenne | J32: - | K32: Moyen | L32: 46084
A33: 24 - Saint-Amand-de-Vergt | B33: 24 | C33: 24365 | D33: CA Le Grand Périgueux | E33: Saint-Amand-de-Vergt | F33: Eligible | G33: 240 | H33: Rural | I33: Faible | J33: - | K33: Insuffisant | L33: 46099
A34: 16 - Laprade | B34: 16 | C34: 16180 | D34: CC Lavalette Tude Dronne | E34: Laprade | F34: Eligible | G34: 247 | H34: Rural | I34: Forte | J34: - | K34: Insuffisant | L34: 46084
A35: 16 - Linars | B35: 16 | C35: 16187 | D35: CA du Grand Angoulême | E35: Linars | F35: Non éligible | G35: 2092 | H35: Urbain | I35: Faible | J35: - | K35: Restreint | L35: 46084
A36: 16 - Mainxe-Gondeville | B36: 16 | C36: 16153 | D36: CA du Grand Cognac | E36: Mainxe-Gondeville | F36: Eligible | G36: 1168 | H36: Rural | I36: Faible | J36: - | K36: Insuffisant | L36: 46084
A37: 16 - Marcillac-Lanville | B37: 16 | C37: 16207 | D37: CC du Rouillacais | E37: Marcillac-Lanville | F37: Eligible | G37: 492 | H37: Rural | I37: Moyenne | J37: - | K37: Insuffisant | L37: 46084
A38: 16 - Merpins | B38: 16 | C38: 16217 | D38: CA du Grand Cognac | E38: Merpins | F38: Eligible | G38: 1101 | H38: Rural | I38: Faible | J38: - | K38: Insuffisant | L38: 46084
A39: 16 - Montbron | B39: 16 | C39: 16223 | D39: CC La Rochefoucauld porte du Périgord | E39: Montbron | F39: Eligible | G39: 2009 | H39: Rural | I39: Moyenne | J39: - | K39: Moyen | L39: 46084
A40: 16 - Montignac-Charente | B40: 16 | C40: 16226 | D40: CC Coeur de Charente | E40: Montignac-Charente | F40: Eligible | G40: 717 | H40: Rural | I40: Moyenne | K40: Restreint | L40: 46077
...
